BEGIN:VCALENDAR
VERSION:2.0
PRODID:icalendar-ruby
CALSCALE:GREGORIAN
METHOD:PUBLISH
BEGIN:VEVENT
DTSTAMP:20260425T134642Z
UID:18-398604@oasiseaston.org
DTSTART:20260815T113000Z
DTEND:20260815T130000Z
CLASS:PUBLIC
CREATED:20260425T081154
DESCRIPTION:The Oasis Men are invited to join their brothers in Christ for 
 a weekly Saturday Morning Bible Study at 7:30 AM.
LAST-MODIFIED:20260425T081154
LOCATION:Oasis Easton - The Well
SUMMARY:Oasis Men's Bible Study
URL;VALUE=URI:https://oasiseaston.org/events/oasis-mens-bible-study/2026-08
 -15
ATTACH;FILENAME=2024-Pro7-Announcement-Slides-2-Men%27s-Bible-Study.png;FMT
 TYPE=image/png:https://dq5pwpg1q8ru0.cloudfront.net/2024/10/17/13/46/26/6b
 a8d35d-1e08-4fc0-8ad5-b5129bf71f32/2024-Pro7-Announcement-Slides-2-Men%252
 7s-Bible-Study.png
END:VEVENT
END:VCALENDAR
